BEGIN:VCALENDAR
VERSION:2.0
PRODID:-//QCSportsNet - The Quad Cities Live Local Sports Leader - ECPv4.9.8//NONSGML v1.0//EN
CALSCALE:GREGORIAN
METHOD:PUBLISH
X-WR-CALNAME:QCSportsNet - The Quad Cities Live Local Sports Leader
X-ORIGINAL-URL:https://qcsportsnet.com
X-WR-CALDESC:Events for QCSportsNet - The Quad Cities Live Local Sports Leader
BEGIN:VTIMEZONE
TZID:America/Chicago
BEGIN:DAYLIGHT
TZOFFSETFROM:-0600
TZOFFSETTO:-0500
TZNAME:CDT
DTSTART:20150308T080000
END:DAYLIGHT
BEGIN:STANDARD
TZOFFSETFROM:-0500
TZOFFSETTO:-0600
TZNAME:CST
DTSTART:20151101T070000
END:STANDARD
END:VTIMEZONE
BEGIN:VEVENT
DTSTART;TZID="America/Chicago":20150127T192000
DTEND;TZID="America/Chicago":20150127T213000
DTSTAMP:20260425T023843
CREATED:20150126T032404Z
LAST-MODIFIED:20150127T113655Z
UID:450-1422386400-1422394200@qcsportsnet.com
SUMMARY:Quad City High School Basketball - Tuesday\, January 27th
DESCRIPTION: \n  \nKey Mississippi Athletic Conference matchups are on tap for ESPN Radio’s coverage of high school basketball. North Scott travels to Bettendorf\, Davenport Assumption hosts Davenport West\, and Pleasant Valley travels to Clinton looking to keep its undefeated season alive. \nGame schedule for Tuesday\, January 27th – All pregames start at approximately 7:20 PM with tip times set for approximately 7:35 PM.\n\nNorth Scott at Bettendorf – ESPN 93.5 FM\, www.espn935.com\, and qcsn.co/espn935 (Marco LaNave)\nDavenport West at Davenport Assumption –  KBOB 1170 AM and qcsn.co/kbob1170  (Joe Winkel\, Tanner Rowe)\nPleasant Valley at Clinton – Because of schedule conflicts\, ESPN Radio is not able to air the Pleasant Valley vs. Clinton boys vs. girls games. KROS Radio in Clinton\, Iowa will air both games. The girls game tips off at 6 PM with the boys game starting 20 minutes after the conclusion of the girls game.\n\n
URL:https://qcsportsnet.com/calendar/quad-city-high-school-basketball-tuesday-january-27th/
CATEGORIES:Boys basketball,MAC
END:VEVENT
END:VCALENDAR