BEGIN:VCALENDAR
VERSION:2.0
PRODID:-//QCSportsNet - The Quad Cities Live Local Sports Leader - ECPv4.9.8//NONSGML v1.0//EN
CALSCALE:GREGORIAN
METHOD:PUBLISH
X-WR-CALNAME:QCSportsNet - The Quad Cities Live Local Sports Leader
X-ORIGINAL-URL:https://qcsportsnet.com
X-WR-CALDESC:Events for QCSportsNet - The Quad Cities Live Local Sports Leader
BEGIN:VTIMEZONE
TZID:America/Chicago
BEGIN:DAYLIGHT
TZOFFSETFROM:-0600
TZOFFSETTO:-0500
TZNAME:CDT
DTSTART:20150308T080000
END:DAYLIGHT
BEGIN:STANDARD
TZOFFSETFROM:-0500
TZOFFSETTO:-0600
TZNAME:CST
DTSTART:20151101T070000
END:STANDARD
END:VTIMEZONE
BEGIN:VEVENT
DTSTART;TZID="America/Chicago":20151127T191500
DTEND;TZID="America/Chicago":20151127T214500
DTSTAMP:20260425T023418
CREATED:20151118T022839Z
LAST-MODIFIED:20151123T131920Z
UID:602-1448651700-1448660700@qcsportsnet.com
SUMMARY:Rock Island Rocks vs. Aurora West - Friday\, November 27th
DESCRIPTION:Click here to listen live via Network1Sports – Click on the “Listen/Watch Live” link to listen live on your computer\, tablet\, or smartphone!\nOpponent – Aurora West Blackhawks (Rock Island Thanksgiving Tournament) \nLocation – Rock Island High School \nAir time – 7:30 PM \nAnnouncer – Ken Jacoby \n
URL:https://qcsportsnet.com/calendar/ri20151127/
LOCATION:Rock Island High School\, 1400 25th Ave\, Rock Island\, IL\, 61201\, United States
CATEGORIES:Boys basketball,Rock Island,Western Big 6
END:VEVENT
END:VCALENDAR