BEGIN:VCALENDAR
VERSION:2.0
PRODID:-//QCSportsNet - The Quad Cities Live Local Sports Leader - ECPv4.9.8//NONSGML v1.0//EN
CALSCALE:GREGORIAN
METHOD:PUBLISH
X-WR-CALNAME:QCSportsNet - The Quad Cities Live Local Sports Leader
X-ORIGINAL-URL:https://qcsportsnet.com
X-WR-CALDESC:Events for QCSportsNet - The Quad Cities Live Local Sports Leader
BEGIN:VTIMEZONE
TZID:America/New_York
BEGIN:DAYLIGHT
TZOFFSETFROM:-0500
TZOFFSETTO:-0400
TZNAME:EDT
DTSTART:20150308T070000
END:DAYLIGHT
BEGIN:STANDARD
TZOFFSETFROM:-0400
TZOFFSETTO:-0500
TZNAME:EST
DTSTART:20151101T060000
END:STANDARD
END:VTIMEZONE
BEGIN:VEVENT
DTSTART;TZID="America/New_York":20151228T004500
DTEND;TZID="America/New_York":20151228T150000
DTSTAMP:20260425T110529
CREATED:20151226T032243Z
LAST-MODIFIED:20151226T032311Z
UID:681-1451263500-1451314800@qcsportsnet.com
SUMMARY:Rock Island vs. Chatham-Glenwood - December 28 2015
DESCRIPTION:Click here to listen live via Network1Sports – Click on the “Listen/Watch Live” link to listen live on your computer\, tablet\, or smartphone!\nOpponent – Chatham-Glenwood \nLocation – State Farm Holiday Classic – Shirk Center @ Illinois Wesleyan University \nBroadcast date – Monday\, December 28 2015 \nAir time – approximately 12:45 PM (tipoff approximately 1 PM) \n
URL:https://qcsportsnet.com/calendar/ri20151228/
CATEGORIES:Boys basketball,Rock Island,Western Big 6
ATTACH;FMTTYPE=image/jpeg:https://qcsportsnet.com/wp-content/uploads/2015/12/QC_black_300dpi.jpg
END:VEVENT
END:VCALENDAR