BEGIN:VCALENDAR
VERSION:2.0
PRODID:-//QCSportsNet - The Quad Cities Live Local Sports Leader - ECPv4.9.8//NONSGML v1.0//EN
CALSCALE:GREGORIAN
METHOD:PUBLISH
X-WR-CALNAME:QCSportsNet - The Quad Cities Live Local Sports Leader
X-ORIGINAL-URL:https://qcsportsnet.com
X-WR-CALDESC:Events for QCSportsNet - The Quad Cities Live Local Sports Leader
BEGIN:VTIMEZONE
TZID:America/Chicago
BEGIN:DAYLIGHT
TZOFFSETFROM:-0600
TZOFFSETTO:-0500
TZNAME:CDT
DTSTART:20180311T080000
END:DAYLIGHT
BEGIN:STANDARD
TZOFFSETFROM:-0500
TZOFFSETTO:-0600
TZNAME:CST
DTSTART:20181104T070000
END:STANDARD
END:VTIMEZONE
BEGIN:VEVENT
DTSTART;VALUE=DATE:20180226
DTEND;VALUE=DATE:20180227
DTSTAMP:20260425T110830
CREATED:20180226T034757Z
LAST-MODIFIED:20180226T034821Z
UID:1395-1519603200-1519689599@qcsportsnet.com
SUMMARY:Rock Island Illinois Class 4A regional
DESCRIPTION:  \n \nClick here to listen live to Rock Island Rocks broadcasts\n\nMonday\, February 26th – Rock Island boys Illinois class 4A regional vs Peoria High\, pregame 7:10 PM/tipoff 7:30 PM\n\n \nClick here to listen live to United Township Panthers broadcasts\n\nMonday\, February 26th – United Township boys Illinois class 4A regional vs Ottawa at Rock Island\, pregame 5:40 PM/tipoff 6 PM\n\n \n
URL:https://qcsportsnet.com/calendar/rock-island-illinois-class-4a-regional/
CATEGORIES:Boys basketball,Rock Island,United Township,Western Big 6
ATTACH;FMTTYPE=image/jpeg:https://qcsportsnet.com/wp-content/uploads/2018/01/QCSportsNet_02_300dpi.jpg
END:VEVENT
END:VCALENDAR