BEGIN:VCALENDAR
VERSION:2.0
PRODID:-//QCSportsNet - The Quad Cities Live Local Sports Leader - ECPv4.9.8//NONSGML v1.0//EN
CALSCALE:GREGORIAN
METHOD:PUBLISH
X-WR-CALNAME:QCSportsNet - The Quad Cities Live Local Sports Leader
X-ORIGINAL-URL:https://qcsportsnet.com
X-WR-CALDESC:Events for QCSportsNet - The Quad Cities Live Local Sports Leader
BEGIN:VTIMEZONE
TZID:America/Chicago
BEGIN:DAYLIGHT
TZOFFSETFROM:-0600
TZOFFSETTO:-0500
TZNAME:CDT
DTSTART:20150308T080000
END:DAYLIGHT
BEGIN:STANDARD
TZOFFSETFROM:-0500
TZOFFSETTO:-0600
TZNAME:CST
DTSTART:20151101T070000
END:STANDARD
END:VTIMEZONE
BEGIN:VEVENT
DTSTART;TZID="America/Chicago":20151009T073000
DTEND;TZID="America/Chicago":20151009T223000
DTSTAMP:20260425T023858
CREATED:20151008T024249Z
LAST-MODIFIED:20151008T024815Z
UID:577-1444375800-1444429800@qcsportsnet.com
SUMMARY:Rock Island Rocks Football at Galesburg - Friday\, October 9th
DESCRIPTION: \n  \nClick here to listen live by clicking on the “Watch/Listen Live” link on the Network1Sports feed.\nThe Rock Island Rocks make the trip east on I-74 Friday night\, October 9th as the Rocks take on Galesburg. “The Voice of the Rocks”\, Ken Jacoby\, has the call beginning at 7:30 PM live on QCSportsNet. Rocks football is proudly presented by Chris Elsberg\, your State Farm agent in Rock Island. Catch Rock Island sports only on the Quad Cities’ home for the home team\, QCSportsNet! \n
URL:https://qcsportsnet.com/calendar/rock-island-rocks-football-at-galesburg-friday-october-9th/
CATEGORIES:Football,Western Big 6
END:VEVENT
END:VCALENDAR