BEGIN:VCALENDAR
VERSION:2.0
PRODID:-//QCSportsNet - The Quad Cities Live Local Sports Leader - ECPv4.9.8//NONSGML v1.0//EN
CALSCALE:GREGORIAN
METHOD:PUBLISH
X-WR-CALNAME:QCSportsNet - The Quad Cities Live Local Sports Leader
X-ORIGINAL-URL:https://qcsportsnet.com
X-WR-CALDESC:Events for QCSportsNet - The Quad Cities Live Local Sports Leader
BEGIN:VTIMEZONE
TZID:America/Chicago
BEGIN:DAYLIGHT
TZOFFSETFROM:-0600
TZOFFSETTO:-0500
TZNAME:CDT
DTSTART:20150308T080000
END:DAYLIGHT
BEGIN:STANDARD
TZOFFSETFROM:-0500
TZOFFSETTO:-0600
TZNAME:CST
DTSTART:20151101T070000
END:STANDARD
END:VTIMEZONE
BEGIN:VEVENT
DTSTART;TZID="America/Chicago":20150919T133000
DTEND;TZID="America/Chicago":20150919T163000
DTSTAMP:20260425T023826
CREATED:20150918T012653Z
LAST-MODIFIED:20150919T033204Z
UID:557-1442669400-1442680200@qcsportsnet.com
SUMMARY:Rock Island Rocks vs. Quincy Blue Devils - Western Big Six Football
DESCRIPTION: \nClick here for the live game stream via Network1Sports\nHigh school football returns to QCSportsNet on Saturday\, September 19th as the Rock Island Rocks host the Quincy Blue Devils in Western Big Six football action. Join “The Voice of the Rocks”\, Ken Jacoby\, as the Rocks look to avenge a heartbreaking loss last season. It’s Homecoming at Rock Island\, and QCSportsNet is proud to be the exclusive play-by-play home of Rock Island football this fall. Pregame coverage starts at approximately 1:30 PM. \nRock Island Rocks football is proudly presented by Chris Elsberg\, your State Farm agent in Rock Island. \n
URL:https://qcsportsnet.com/calendar/rock-island-rocks-vs-quincy-blue-devils-western-big-six-football/
LOCATION:Rock Island High School
CATEGORIES:Football,Western Big 6
END:VEVENT
END:VCALENDAR