BEGIN:VCALENDAR
VERSION:2.0
PRODID:-//QCSportsNet - The Quad Cities Live Local Sports Leader - ECPv4.9.8//NONSGML v1.0//EN
CALSCALE:GREGORIAN
METHOD:PUBLISH
X-WR-CALNAME:QCSportsNet - The Quad Cities Live Local Sports Leader
X-ORIGINAL-URL:https://qcsportsnet.com
X-WR-CALDESC:Events for QCSportsNet - The Quad Cities Live Local Sports Leader
BEGIN:VTIMEZONE
TZID:America/Chicago
BEGIN:DAYLIGHT
TZOFFSETFROM:-0600
TZOFFSETTO:-0500
TZNAME:CDT
DTSTART:20150308T080000
END:DAYLIGHT
BEGIN:STANDARD
TZOFFSETFROM:-0500
TZOFFSETTO:-0600
TZNAME:CST
DTSTART:20151101T070000
END:STANDARD
END:VTIMEZONE
BEGIN:VEVENT
DTSTART;TZID="America/Chicago":20151030T071500
DTEND;TZID="America/Chicago":20151030T220000
DTSTAMP:20260425T010225
CREATED:20151028T025337Z
LAST-MODIFIED:20151028T025337Z
UID:590-1446189300-1446242400@qcsportsnet.com
SUMMARY:Rock Island vs. Crete-Monee - IHSA Class 6A football playoffs\, October 30 2015
DESCRIPTION: \n  \nClick here to listen live by clicking on the “Listen/Watch Live” link via Network1Sports\nThe Western Big 6 football champion Rock Island Rocks seek their fifth win in a row in the “second season” of the IHSA football playoffs. The Rocks (6-3) make the 170-mile trip to Crete-Monee (7-2) this Friday night for the first round of the Class 6A IHSA playoffs\, and QCSportsNet is your exclusive home for the Rocks in the playoffs. “The Voice of the Rocks”\, Ken Jacoby\, will have the call of the game starting with the pregame at 7:15 PM. \nQCSportsNet.com\, the Quad Cities’ premier producer of live high school sports\, will carry all Rock Island football playoff games.   Rock Island High School Football on QCSportsNet.com is presented by Chris Elsberg State Farm Insurance.  In addition\, sponsors include Crawford Company\, American Family Insurance – Michael Orth Agency\, Wheelan-Pressly Funeral Homes\, Comedy Sportz\, Blackhawk Bank and Trust\, Hungry Hobo\, and Spellbound New Age & Gift Shop. \n
URL:https://qcsportsnet.com/calendar/rock-island-vs-crete-monee-ihsa-class-6a-football-playoffs-october-30-2015/
LOCATION:Crete-Monee High School\, 1515 W. Exchange Street\, Crete\, 60417\, United States
CATEGORIES:Football,State playoffs,Western Big 6
END:VEVENT
END:VCALENDAR