BEGIN:VCALENDAR
VERSION:2.0
PRODID:-//QCSportsNet - The Quad Cities Live Local Sports Leader - ECPv4.9.8//NONSGML v1.0//EN
CALSCALE:GREGORIAN
METHOD:PUBLISH
X-WR-CALNAME:QCSportsNet - The Quad Cities Live Local Sports Leader
X-ORIGINAL-URL:https://qcsportsnet.com
X-WR-CALDESC:Events for QCSportsNet - The Quad Cities Live Local Sports Leader
BEGIN:VTIMEZONE
TZID:America/Chicago
BEGIN:DAYLIGHT
TZOFFSETFROM:-0600
TZOFFSETTO:-0500
TZNAME:CDT
DTSTART:20150308T080000
END:DAYLIGHT
BEGIN:STANDARD
TZOFFSETFROM:-0500
TZOFFSETTO:-0600
TZNAME:CST
DTSTART:20151101T070000
END:STANDARD
END:VTIMEZONE
BEGIN:VEVENT
DTSTART;TZID="America/Chicago":20150306T080000
DTEND;TZID="America/Chicago":20150306T170000
DTSTAMP:20260425T023558
CREATED:20150306T022117Z
LAST-MODIFIED:20150306T022117Z
UID:531-1425628800-1425661200@qcsportsnet.com
SUMMARY:Rock Island vs Moline - Illinois Class 4A regional final\, March 6th
DESCRIPTION: \nIllinois high school basketball’s oldest rivalry takes on special meaning this Friday\, as Moline and Rock Island meet at Wharton Field House for the Illinois Class 4A Moline Regional championship. Ken Jacoby will bring you all of the action as Rock Island looks to win for the third straight time this season against the second-seeded Maroons. Pregame coverage starts at 6:45 with the tip at 7 PM on ESPN 93.5 FM\, www.espn935.com\, and qcsn.co/espn935. \nESPN Radio will have more high school basketball action next week with the Rock Island-Moline winner playing in the Pekin Sectional Tuesday night and Pleasant Valley and North Scott playing in the Iowa 4A state tournament quarterfinals Wednesday at Wells Fargo Arena in Des Moines. Stay tuned to www.espn935.com and www.qcsportsnet.com for listings and game links. \n  \n
URL:https://qcsportsnet.com/calendar/rock-island-vs-moline-illinois-class-4a-regional-final-march-6th/
CATEGORIES:Boys basketball,State playoffs,Western Big 6
END:VEVENT
END:VCALENDAR