BEGIN:VCALENDAR
VERSION:2.0
PRODID:-//QCSportsNet - The Quad Cities Live Local Sports Leader - ECPv4.9.8//NONSGML v1.0//EN
CALSCALE:GREGORIAN
METHOD:PUBLISH
X-WR-CALNAME:QCSportsNet - The Quad Cities Live Local Sports Leader
X-ORIGINAL-URL:https://qcsportsnet.com
X-WR-CALDESC:Events for QCSportsNet - The Quad Cities Live Local Sports Leader
BEGIN:VTIMEZONE
TZID:America/New_York
BEGIN:DAYLIGHT
TZOFFSETFROM:-0500
TZOFFSETTO:-0400
TZNAME:EDT
DTSTART:20150308T070000
END:DAYLIGHT
BEGIN:STANDARD
TZOFFSETFROM:-0400
TZOFFSETTO:-0500
TZNAME:EST
DTSTART:20151101T060000
END:STANDARD
END:VTIMEZONE
BEGIN:VEVENT
DTSTART;TZID="America/New_York":20151229T191500
DTEND;TZID="America/New_York":20151229T220000
DTSTAMP:20260425T110855
CREATED:20151229T052829Z
LAST-MODIFIED:20151229T052829Z
UID:684-1451416500-1451426400@qcsportsnet.com
SUMMARY:Rock Island vs. North Chicago - December 29 2015
DESCRIPTION:Click here to listen live via Network1Sports – Click on the “Listen/Watch Live” link to listen live on your computer\, tablet\, or smartphone!\nOpponent – Chatham-Glenwood \nLocation – State Farm Holiday Classic – Normal West High School \nBroadcast date – Tuesday\, December 29th 2015 \nAir time – approximately 7:30 PM (airtime approximately 7:15 PM) \n
URL:https://qcsportsnet.com/calendar/rock-island-vs-north-chicago-december-29-2015/
CATEGORIES:Boys basketball,Rock Island,Western Big 6
END:VEVENT
END:VCALENDAR