BEGIN:VCALENDAR
VERSION:2.0
PRODID:-//QCSportsNet - The Quad Cities Live Local Sports Leader - ECPv4.9.8//NONSGML v1.0//EN
CALSCALE:GREGORIAN
METHOD:PUBLISH
X-WR-CALNAME:QCSportsNet - The Quad Cities Live Local Sports Leader
X-ORIGINAL-URL:https://qcsportsnet.com
X-WR-CALDESC:Events for QCSportsNet - The Quad Cities Live Local Sports Leader
BEGIN:VTIMEZONE
TZID:America/Chicago
BEGIN:DAYLIGHT
TZOFFSETFROM:-0600
TZOFFSETTO:-0500
TZNAME:CDT
DTSTART:20180311T080000
END:DAYLIGHT
BEGIN:STANDARD
TZOFFSETFROM:-0500
TZOFFSETTO:-0600
TZNAME:CST
DTSTART:20181104T070000
END:STANDARD
END:VTIMEZONE
BEGIN:VEVENT
DTSTART;TZID="America/Chicago":20181006T124000
DTEND;TZID="America/Chicago":20181006T180000
DTSTAMP:20260425T023714
CREATED:20181006T045809Z
LAST-MODIFIED:20181006T045809Z
UID:1495-1538829600-1538848800@qcsportsnet.com
SUMMARY:Saturday\, October 6th football schedule (makeup games from Friday\, October 5th)
DESCRIPTION:Because of the severe weather on Friday night\, QCSportsNet will have live coverage of three games either not started or suspended because of weather-related concerns. Please see the broadcast listings below for your team’s start time. Please follow our Facebook page and our Twitter for any additional weather-related issues. \nJoin QCSportsNet all season long for the best in high school sports coverage! \n  \n \nClick here to listen to live Moline broadcasts\n\nSaturday\, October 6th – Moline at Rock Island\, pregame 2:40 PM/kickoff 3:00 PM\n\n \nClick here to listen to live Pleasant Valley broadcasts\n\nSaturday\, October 6th – Pleasant Valley at Iowa City High\, pregame 12:50 PM/play resumes at 1:00 PM (Pleasant Valley leads 14-0 – game was suspended with :42.6 left in the 2nd quarter)\n\n \nClick here to listen to live Rock Island broadcasts\n\nSaturday\, October 6th – Rock Island vs Moline\, pregame 2:40 PM/kickoff 3:00 PM\n\n \nClick here to listen to live United Township broadcasts\n\nSaturday\, October 6th – United Township vs Galesburg\, pregame 12:40 PM/kickoff 1:00 PM \n\nOur entire 2018 football broadcast schedule for QCSportsNet is linked below. This schedule will give you the station and date for each of sour five teams’ football games for the coming season. QCSportsNet will cover every football game – home\, away\, and playoffs – for our five schools! \nQCSportsNet 2018 Football Schedule \n \n
URL:https://qcsportsnet.com/calendar/saturday-october-6th-football-schedule-makeup-games-from-friday-october-5th/
CATEGORIES:MAC,Western Big 6
ATTACH;FMTTYPE=image/jpeg:https://qcsportsnet.com/wp-content/uploads/2018/01/QCSportsNet_02_300dpi.jpg
END:VEVENT
END:VCALENDAR