BEGIN:VCALENDAR
VERSION:2.0
PRODID:-//QCSportsNet - The Quad Cities Live Local Sports Leader - ECPv4.9.8//NONSGML v1.0//EN
CALSCALE:GREGORIAN
METHOD:PUBLISH
X-WR-CALNAME:QCSportsNet - The Quad Cities Live Local Sports Leader
X-ORIGINAL-URL:https://qcsportsnet.com
X-WR-CALDESC:Events for QCSportsNet - The Quad Cities Live Local Sports Leader
BEGIN:VTIMEZONE
TZID:America/Chicago
BEGIN:DAYLIGHT
TZOFFSETFROM:-0600
TZOFFSETTO:-0500
TZNAME:CDT
DTSTART:20140309T080000
END:DAYLIGHT
BEGIN:STANDARD
TZOFFSETFROM:-0500
TZOFFSETTO:-0600
TZNAME:CST
DTSTART:20141102T070000
END:STANDARD
END:VTIMEZONE
BEGIN:VEVENT
DTSTART;TZID="America/Chicago":20141103T183000
DTEND;TZID="America/Chicago":20141103T220000
DTSTAMP:20260425T010043
CREATED:20141031T103818Z
LAST-MODIFIED:20141031T104808Z
UID:309-1415039400-1415052000@qcsportsnet.com
SUMMARY:Second round Iowa high school playoff schedule - November 3\, 2014
DESCRIPTION:A highly-anticipated rematch and top-ranked Bettendorf’s second-round playoff game highlight a big night of Monday night playoff football on ESPN Radio’s coverage of the Iowa high school football playoffs\, powered by QCSportsNet. \nNorth Scott and Pleasant Valley renew their MAC rivalry at Spartan Stadium in a rematch of their Week 1 encounter\, won by North Scott 7-3. Bettendorf hosts upset-minded Cedar Rapids Kennedy\, fresh off of an upset of a 7-2 Muscatine team. It promises to be a big night of football. \nSchedule of games for Monday\, November 3\n\nNorth Scott at Pleasant Valley (Dallon Christensen) – 6:30 PM pregame on ESPN 93.5 FM\, www.espn935.com\, and qcsn.co/espn935\nCedar Rapids Kennedy at Bettendorf (Play by play – Mitch Widmeier\, Analyst – Steve Campbell) – Joined in progress on AM 1170 KBOB at 8 PM following the CydLines Coaches show. The entire game will be available online at http://qcsn.co/kbob1170 starting with the pregame show at 6:30 PM. \n\n\n
URL:https://qcsportsnet.com/calendar/second-round-iowa-high-school-playoff-schedule-november-3-2014/
CATEGORIES:Football,State playoffs
END:VEVENT
END:VCALENDAR