BEGIN:VCALENDAR
VERSION:2.0
PRODID:-//QCSportsNet - The Quad Cities Live Local Sports Leader - ECPv4.9.8//NONSGML v1.0//EN
CALSCALE:GREGORIAN
METHOD:PUBLISH
X-WR-CALNAME:QCSportsNet - The Quad Cities Live Local Sports Leader
X-ORIGINAL-URL:https://qcsportsnet.com
X-WR-CALDESC:Events for QCSportsNet - The Quad Cities Live Local Sports Leader
BEGIN:VTIMEZONE
TZID:America/New_York
BEGIN:DAYLIGHT
TZOFFSETFROM:-0500
TZOFFSETTO:-0400
TZNAME:EDT
DTSTART:20160313T070000
END:DAYLIGHT
BEGIN:STANDARD
TZOFFSETFROM:-0400
TZOFFSETTO:-0500
TZNAME:EST
DTSTART:20161106T060000
END:STANDARD
END:VTIMEZONE
BEGIN:VEVENT
DTSTART;TZID="America/New_York":20160311T130000
DTEND;TZID="America/New_York":20160311T210000
DTSTAMP:20260425T141719
CREATED:20160310T044922Z
LAST-MODIFIED:20160310T125544Z
UID:839-1457701200-1457730000@qcsportsnet.com
SUMMARY:State Playoff Doubleheader (PV and UT) - March 11 2016
DESCRIPTION:\nPleasant Valley Games – Click here to listen live\n\nFriday\, March 11 – State semifinal vs. West Des Moines Valley\, 1:10 PM pregame (Dallon Christensen)\n\n \nUnited Township Games – Click here to listen live\n\nFriday\, March 11 – vs. Alton at Collinsville Sectional final\, 6:40 PM pregame (Joe Winkel\, Tanner Rowe)\n\n
URL:https://qcsportsnet.com/calendar/state-playoff-doubleheader-pv-and-ut-march-11-2016/
CATEGORIES:Boys basketball,MAC,Pleasant Valley,State playoffs,United Township,Western Big 6
END:VEVENT
END:VCALENDAR