BEGIN:VCALENDAR
VERSION:2.0
PRODID:-//QCSportsNet - The Quad Cities Live Local Sports Leader - ECPv4.9.8//NONSGML v1.0//EN
CALSCALE:GREGORIAN
METHOD:PUBLISH
X-WR-CALNAME:QCSportsNet - The Quad Cities Live Local Sports Leader
X-ORIGINAL-URL:https://qcsportsnet.com
X-WR-CALDESC:Events for QCSportsNet - The Quad Cities Live Local Sports Leader
BEGIN:VTIMEZONE
TZID:America/New_York
BEGIN:DAYLIGHT
TZOFFSETFROM:-0500
TZOFFSETTO:-0400
TZNAME:EDT
DTSTART:20160313T070000
END:DAYLIGHT
BEGIN:STANDARD
TZOFFSETFROM:-0400
TZOFFSETTO:-0500
TZNAME:EST
DTSTART:20161106T060000
END:STANDARD
END:VTIMEZONE
BEGIN:VEVENT
DTSTART;TZID="America/New_York":20160301T173000
DTEND;TZID="America/New_York":20160301T213000
DTSTAMP:20260425T124639
CREATED:20160229T132831Z
LAST-MODIFIED:20160229T155323Z
UID:820-1456853400-1456867800@qcsportsnet.com
SUMMARY:State Playoff Tripleheader (RI\, UT\, and PV) - March 1 2016
DESCRIPTION:\nPleasant Valley Games – Click here to listen live\n\nTuesday\, March 1 – vs. Muscatine at Bettendorf\, 6:30 PM tipoff (Play by Play – Dallon Christensen\, Analyst – Bill Horrell)\n\nRock Island Games – Click here to listen live!\n\nTuesday\, March 1 – vs. Moline/Pekin winner at Ottawa\, 6:40 PM pregame (Ken Jacoby)\n\n \nUnited Township Games – Click here to listen live\n\nTuesday\, March 1 – vs. Normal (Community) vs. Danville winner at Normal\, 5:40 PM pregame (Joe Winkel\, Tanner Rowe)\n\n\n
URL:https://qcsportsnet.com/calendar/state-playoff-tripleheader-ri-ut-and-pv-march-1-2016/
CATEGORIES:Boys basketball,MAC,Pleasant Valley,Rock Island,State playoffs,United Township,Western Big 6
END:VEVENT
END:VCALENDAR