BEGIN:VCALENDAR
VERSION:2.0
PRODID:-//QCSportsNet - The Quad Cities Live Local Sports Leader - ECPv4.9.8//NONSGML v1.0//EN
CALSCALE:GREGORIAN
METHOD:PUBLISH
X-WR-CALNAME:QCSportsNet - The Quad Cities Live Local Sports Leader
X-ORIGINAL-URL:https://qcsportsnet.com
X-WR-CALDESC:Events for QCSportsNet - The Quad Cities Live Local Sports Leader
BEGIN:VTIMEZONE
TZID:America/New_York
BEGIN:DAYLIGHT
TZOFFSETFROM:-0500
TZOFFSETTO:-0400
TZNAME:EDT
DTSTART:20170312T070000
END:DAYLIGHT
BEGIN:STANDARD
TZOFFSETFROM:-0400
TZOFFSETTO:-0500
TZNAME:EST
DTSTART:20171105T060000
END:STANDARD
END:VTIMEZONE
BEGIN:VEVENT
DTSTART;VALUE=DATE:20171130
DTEND;VALUE=DATE:20171201
DTSTAMP:20260424T232428
CREATED:20171129T043435Z
LAST-MODIFIED:20171129T043435Z
UID:1104-1512000000-1512086399@qcsportsnet.com
SUMMARY:Thursday\, November 30 Basketball Broadcast Schedule
DESCRIPTION: \nClick here to listen live to Moline Maroons broadcasts\n\nThursday\, November 30 – Moline girls at Rock Island\, pregame 6:10 PM/tipoff 6:30 PM\n\n \nClick here to listen live to Pleasant Valley Spartans broadcasts\n\nThursday\, November 30 – Pleasant Valley boys at Iowa City High\, pregame 7:10 PM/tipoff 7:30 PM\n\n \nClick here to listen live to Rock Island Rocks broadcasts\n\nThursday\, November 30 – Rock Island girls vs. Moline\, pregame 6:10 PM/tipoff 6:30 PM\n\n \nClick here to listen live to United Township Panthers broadcasts\n\nThursday\, November 30 – United Township girls at Galesburg\, pregame 6:10 PM/tipoff 6:30 PM\n\n \n\n
URL:https://qcsportsnet.com/calendar/thursday-november-30-basketball-broadcast-schedule/
CATEGORIES:Boys basketball,Girls Basketball,MAC,Western Big 6
ATTACH;FMTTYPE=image/jpeg:https://qcsportsnet.com/wp-content/uploads/2014/08/QC_blue_300dpi.jpg
END:VEVENT
END:VCALENDAR