BEGIN:VCALENDAR
VERSION:2.0
PRODID:-//QCSportsNet - The Quad Cities Live Local Sports Leader - ECPv4.9.8//NONSGML v1.0//EN
CALSCALE:GREGORIAN
METHOD:PUBLISH
X-WR-CALNAME:QCSportsNet - The Quad Cities Live Local Sports Leader
X-ORIGINAL-URL:https://qcsportsnet.com
X-WR-CALDESC:Events for QCSportsNet - The Quad Cities Live Local Sports Leader
BEGIN:VTIMEZONE
TZID:America/Chicago
BEGIN:DAYLIGHT
TZOFFSETFROM:-0600
TZOFFSETTO:-0500
TZNAME:CDT
DTSTART:20190310T080000
END:DAYLIGHT
BEGIN:STANDARD
TZOFFSETFROM:-0500
TZOFFSETTO:-0600
TZNAME:CST
DTSTART:20191103T070000
END:STANDARD
END:VTIMEZONE
BEGIN:VEVENT
DTSTART;TZID="America/Chicago":20190521T161500
DTEND;TZID="America/Chicago":20190521T183000
DTSTAMP:20260424T233213
CREATED:20190520T210600Z
LAST-MODIFIED:20190521T104143Z
UID:1880-1558455300-1558463400@qcsportsnet.com
SUMMARY:Rock Island vs Quincy - IHSA Regional Softball\, May 21st
DESCRIPTION: \nClick here for live Rock Island broadcasts\nTuesday\, May 21st – Rock Island softball vs Quincy at IHSA Class 4A United Township Regional\, 4:15 PM pregame/4:30 PM first pitch \n
URL:https://qcsportsnet.com/calendar/united-township-vs-quincy-ihsa-regional-softball-may-21st/
CATEGORIES:Rock Island,Softball,Western Big 6
END:VEVENT
END:VCALENDAR