BEGIN:VCALENDAR
VERSION:2.0
PRODID:-//QCSportsNet - The Quad Cities Live Local Sports Leader - ECPv4.9.8//NONSGML v1.0//EN
CALSCALE:GREGORIAN
METHOD:PUBLISH
X-WR-CALNAME:QCSportsNet - The Quad Cities Live Local Sports Leader
X-ORIGINAL-URL:https://qcsportsnet.com
X-WR-CALDESC:Events for QCSportsNet - The Quad Cities Live Local Sports Leader
BEGIN:VTIMEZONE
TZID:America/Chicago
BEGIN:DAYLIGHT
TZOFFSETFROM:-0600
TZOFFSETTO:-0500
TZNAME:CDT
DTSTART:20140309T080000
END:DAYLIGHT
BEGIN:STANDARD
TZOFFSETFROM:-0500
TZOFFSETTO:-0600
TZNAME:CST
DTSTART:20141102T070000
END:STANDARD
END:VTIMEZONE
BEGIN:VEVENT
DTSTART;TZID="America/Chicago":20141125T194500
DTEND;TZID="America/Chicago":20141125T220000
DTSTAMP:20260425T023833
CREATED:20141125T123828Z
LAST-MODIFIED:20141125T123828Z
UID:374-1416944700-1416952800@qcsportsnet.com
SUMMARY:United Township vs. Rockridge - Geneseo Thanksgiving Tournament
DESCRIPTION: \n  \nJoe Winkel and Tanner Rowe bring you the United Township Panthers’ season-opener against Illinois Class 2A power Rockridge from the Geneseo Thanksgiving tournament on Tuesday\, November 25 starting at 7:45 PM on QCSportsNet2. \nClick here to listen live to tonight’s game\n  \n
URL:https://qcsportsnet.com/calendar/united-township-vs-rockridge-geneseo-thanksgiving-tournament/
CATEGORIES:Boys basketball
END:VEVENT
END:VCALENDAR