BEGIN:VCALENDAR
VERSION:2.0
PRODID:-//QCSportsNet - The Quad Cities Live Local Sports Leader - ECPv4.9.8//NONSGML v1.0//EN
CALSCALE:GREGORIAN
METHOD:PUBLISH
X-WR-CALNAME:QCSportsNet - The Quad Cities Live Local Sports Leader
X-ORIGINAL-URL:https://qcsportsnet.com
X-WR-CALDESC:Events for QCSportsNet - The Quad Cities Live Local Sports Leader
BEGIN:VTIMEZONE
TZID:America/Chicago
BEGIN:DAYLIGHT
TZOFFSETFROM:-0600
TZOFFSETTO:-0500
TZNAME:CDT
DTSTART:20150308T080000
END:DAYLIGHT
BEGIN:STANDARD
TZOFFSETFROM:-0500
TZOFFSETTO:-0600
TZNAME:CST
DTSTART:20151101T070000
END:STANDARD
END:VTIMEZONE
BEGIN:VEVENT
DTSTART;TZID="America/Chicago":20151127T161500
DTEND;TZID="America/Chicago":20151127T183000
DTSTAMP:20260425T005721
CREATED:20151122T225738Z
LAST-MODIFIED:20151122T225809Z
UID:609-1448640900-1448649000@qcsportsnet.com
SUMMARY:United Township vs. Rock Falls - Friday\, November 27th 2015
DESCRIPTION:Click here to listen live via Network1Sports – Click on the “Listen/Watch Live” link to listen live on your computer\, tablet\, or smartphone!\nOpponent – Rock Falls Rockets \nLocation – Geneseo High School \nAir time – 4:15 PM \nAnnouncers – Joe Winkel and Tanner Rowe \n
URL:https://qcsportsnet.com/calendar/ut20151127430/
CATEGORIES:Boys basketball,United Township,Western Big 6
END:VEVENT
END:VCALENDAR