BEGIN:VCALENDAR
VERSION:2.0
PRODID:-//QCSportsNet - The Quad Cities Live Local Sports Leader - ECPv4.9.8//NONSGML v1.0//EN
CALSCALE:GREGORIAN
METHOD:PUBLISH
X-WR-CALNAME:QCSportsNet - The Quad Cities Live Local Sports Leader
X-ORIGINAL-URL:https://qcsportsnet.com
X-WR-CALDESC:Events for QCSportsNet - The Quad Cities Live Local Sports Leader
BEGIN:VTIMEZONE
TZID:America/Chicago
BEGIN:DAYLIGHT
TZOFFSETFROM:-0600
TZOFFSETTO:-0500
TZNAME:CDT
DTSTART:20150308T080000
END:DAYLIGHT
BEGIN:STANDARD
TZOFFSETFROM:-0500
TZOFFSETTO:-0600
TZNAME:CST
DTSTART:20151101T070000
END:STANDARD
END:VTIMEZONE
BEGIN:VEVENT
DTSTART;TZID="America/Chicago":20151211T191500
DTEND;TZID="America/Chicago":20151211T213000
DTSTAMP:20260425T023348
CREATED:20151207T022714Z
LAST-MODIFIED:20151207T023020Z
UID:633-1449861300-1449869400@qcsportsnet.com
SUMMARY:United Township vs. Moline - Friday\, December 11th 2015
DESCRIPTION:Click here to listen live via Network1Sports – Click on the “Listen/Watch Live” link to listen live on your computer\, tablet\, or smartphone!\nOpponent – Moline Maroons \nLocation – United Township High School \nBroadcast date – December 11th 2015 \nAir time – 7:20 PM \nAnnouncers – Joe Winkel and Tanner Rowe \n
URL:https://qcsportsnet.com/calendar/ut20151211/
CATEGORIES:Boys basketball,United Township,Western Big 6
END:VEVENT
END:VCALENDAR