BEGIN:VCALENDAR
VERSION:2.0
PRODID:-//QCSportsNet - The Quad Cities Live Local Sports Leader - ECPv4.9.8//NONSGML v1.0//EN
CALSCALE:GREGORIAN
METHOD:PUBLISH
X-WR-CALNAME:QCSportsNet - The Quad Cities Live Local Sports Leader
X-ORIGINAL-URL:https://qcsportsnet.com
X-WR-CALDESC:Events for QCSportsNet - The Quad Cities Live Local Sports Leader
BEGIN:VTIMEZONE
TZID:America/New_York
BEGIN:DAYLIGHT
TZOFFSETFROM:-0500
TZOFFSETTO:-0400
TZNAME:EDT
DTSTART:20150308T070000
END:DAYLIGHT
BEGIN:STANDARD
TZOFFSETFROM:-0400
TZOFFSETTO:-0500
TZNAME:EST
DTSTART:20151101T060000
END:STANDARD
END:VTIMEZONE
BEGIN:VEVENT
DTSTART;TZID="America/New_York":20151218T191500
DTEND;TZID="America/New_York":20151218T213000
DTSTAMP:20260425T023419
CREATED:20151210T031346Z
LAST-MODIFIED:20151210T031346Z
UID:642-1450466100-1450474200@qcsportsnet.com
SUMMARY:United Township at Quincy - Friday\, December 18 2015
DESCRIPTION:Click here to listen live via Network1Sports – Click on the “Listen/Watch Live” link to listen live on your computer\, tablet\, or smartphone!\nOpponent – Quincy Blue Devils \nLocation – Quincy\, IL \nBroadcast date – December 18th 2015 \nAir time – 7:15 PM \nAnnouncers – Joe Winkel and Tanner Rowe \n
URL:https://qcsportsnet.com/calendar/ut20151218/
CATEGORIES:Boys basketball,United Township,Western Big 6
END:VEVENT
END:VCALENDAR