BEGIN:VCALENDAR
VERSION:2.0
PRODID:-//QCSportsNet - The Quad Cities Live Local Sports Leader - ECPv4.9.8//NONSGML v1.0//EN
CALSCALE:GREGORIAN
METHOD:PUBLISH
X-WR-CALNAME:QCSportsNet - The Quad Cities Live Local Sports Leader
X-ORIGINAL-URL:https://qcsportsnet.com
X-WR-CALDESC:Events for QCSportsNet - The Quad Cities Live Local Sports Leader
BEGIN:VTIMEZONE
TZID:America/Chicago
BEGIN:DAYLIGHT
TZOFFSETFROM:-0600
TZOFFSETTO:-0500
TZNAME:CDT
DTSTART:20180311T080000
END:DAYLIGHT
BEGIN:STANDARD
TZOFFSETFROM:-0500
TZOFFSETTO:-0600
TZNAME:CST
DTSTART:20181104T070000
END:STANDARD
END:VTIMEZONE
BEGIN:VEVENT
DTSTART;TZID="America/Chicago":20180928T191000
DTEND;TZID="America/Chicago":20180928T221500
DTSTAMP:20260425T023603
CREATED:20180925T015353Z
LAST-MODIFIED:20180925T015353Z
UID:1474-1538161800-1538172900@qcsportsnet.com
SUMMARY:Week 6 Football schedule - September 28 2018
DESCRIPTION: \nClick here to listen to live Bettendorf broadcasts\n\nFriday\, September 21st – Bettendorf at Burlington\, pregame 7:10 PM/kickoff 7:30 PM\n\n \nClick here to listen to live Moline broadcasts\n\nFriday\, September 21st – Moline vs Galesburg\, pregame 7:10 PM/kickoff 7:30 PM\n\n \nClick here to listen to live Pleasant Valley broadcasts\n\nFriday\, September 21st – Pleasant Valley vs Muscatine\, pregame 7:10 PM/kickoff 7:30 PM\n\n \nClick here to listen to live Rock Island broadcasts\n\nFriday\, September 21st – Rock Island at Quincy\, pregame 7:10 PM/kickoff 7:30 PM\n\n \nClick here to listen to live United Township broadcasts\n\nFriday\, September 21st – United Township at Alleman\, pregame 7:10 PM/kickoff 7:30 PM\n\nOur entire 2018 football broadcast schedule for QCSportsNet is linked below. This schedule will give you the station and date for each of sour five teams’ football games for the coming season. QCSportsNet will cover every football game – home\, away\, and playoffs – for our five schools! \nQCSportsNet 2018 Football Schedule \n \n
URL:https://qcsportsnet.com/calendar/week-6-football-schedule-september-28-2018/
CATEGORIES:Football,MAC,Western Big 6
ATTACH;FMTTYPE=image/jpeg:https://qcsportsnet.com/wp-content/uploads/2018/01/QCSportsNet_02_300dpi.jpg
END:VEVENT
END:VCALENDAR