BEGIN:VCALENDAR
VERSION:2.0
PRODID:-//QCSportsNet - The Quad Cities Live Local Sports Leader - ECPv4.9.8//NONSGML v1.0//EN
CALSCALE:GREGORIAN
METHOD:PUBLISH
X-WR-CALNAME:QCSportsNet - The Quad Cities Live Local Sports Leader
X-ORIGINAL-URL:https://qcsportsnet.com
X-WR-CALDESC:Events for QCSportsNet - The Quad Cities Live Local Sports Leader
BEGIN:VTIMEZONE
TZID:America/Chicago
BEGIN:DAYLIGHT
TZOFFSETFROM:-0600
TZOFFSETTO:-0500
TZNAME:CDT
DTSTART:20180311T080000
END:DAYLIGHT
BEGIN:STANDARD
TZOFFSETFROM:-0500
TZOFFSETTO:-0600
TZNAME:CST
DTSTART:20181104T070000
END:STANDARD
END:VTIMEZONE
BEGIN:VEVENT
DTSTART;TZID="America/Chicago":20181005T171500
DTEND;TZID="America/Chicago":20181005T223000
DTSTAMP:20260425T023540
CREATED:20181003T111941Z
LAST-MODIFIED:20181005T185110Z
UID:1481-1538759700-1538778600@qcsportsnet.com
SUMMARY:Week 7 Football Schedule - Friday\, October 5th
DESCRIPTION: \nPlease note the time changes for tonight’s games because of the weather forecast. Follow our Facebook page and Twitter account for continued updates!\nA summary of the kickoff times for tonight’s games is below.\n\n\nBettendorf vs Cedar Rapids Kennedy – 5:30 PM\n\n\nPleasant Valley vs Iowa City High – 6:00 PM\n\n\nMoline vs Rock Island – 6:30 PM\n\n\nUnited Township vs Galesburg – 7:00 PM\n\n\nIllinois’ oldest high school rivalry takes to the football field this Friday night on QCSportsNet! Moline and Rock Island\, who have competed against each other since 1890\, meet again at Rock Island Public Schools Stadium in a key Western Big 6 matchup. Bettendorf and Pleasant Valley look to bolster their playoff positions in district play\, while United Township hosts Galesburg. \nJoin QCSportsNet all season long for the best in high school sports coverage! \n \nClick here to listen to live Bettendorf broadcasts\n\nFriday\, October 5th – Bettendorf vs Cedar Rapids Kennedy\, pregame 5:15 PM/kickoff 5:30 PM\n\n \nClick here to listen to live Moline broadcasts\n\nFriday\, October 5th – Moline at Rock Island\, pregame 6:10 PM/kickoff 6:30 PM\n\n \nClick here to listen to live Pleasant Valley broadcasts\n\nFriday\, October 5th – Pleasant Valley at Iowa City High\, pregame 5:50 PM/kickoff 6:00 PM\n\n \nClick here to listen to live Rock Island broadcasts\n\nFriday\, October 5th – Rock Island vs Moline\,pregame 6:10 PM/kickoff 6:30 PM\n\n \nClick here to listen to live United Township broadcasts\n\nFriday\, October 5th – United Township vs Galesburg\, pregame 6:45 PM/kickoff 7:00 PM \n\nOur entire 2018 football broadcast schedule for QCSportsNet is linked below. This schedule will give you the station and date for each of sour five teams’ football games for the coming season. QCSportsNet will cover every football game – home\, away\, and playoffs – for our five schools! \nQCSportsNet 2018 Football Schedule \n \n
URL:https://qcsportsnet.com/calendar/week-7-football-schedule-friday-october-5th/
CATEGORIES:Football,MAC,Western Big 6
ATTACH;FMTTYPE=image/jpeg:https://qcsportsnet.com/wp-content/uploads/2018/01/QCSportsNet_02_300dpi.jpg
END:VEVENT
END:VCALENDAR