BEGIN:VCALENDAR
VERSION:2.0
PRODID:-//QCSportsNet - The Quad Cities Live Local Sports Leader - ECPv4.9.8//NONSGML v1.0//EN
CALSCALE:GREGORIAN
METHOD:PUBLISH
X-WR-CALNAME:QCSportsNet - The Quad Cities Live Local Sports Leader
X-ORIGINAL-URL:https://qcsportsnet.com
X-WR-CALDESC:Events for QCSportsNet - The Quad Cities Live Local Sports Leader
BEGIN:VTIMEZONE
TZID:America/Chicago
BEGIN:DAYLIGHT
TZOFFSETFROM:-0600
TZOFFSETTO:-0500
TZNAME:CDT
DTSTART:20190310T080000
END:DAYLIGHT
BEGIN:STANDARD
TZOFFSETFROM:-0500
TZOFFSETTO:-0600
TZNAME:CST
DTSTART:20191103T070000
END:STANDARD
END:VTIMEZONE
BEGIN:VEVENT
DTSTART;TZID="America/Chicago":20190126T161500
DTEND;TZID="America/Chicago":20190126T203000
DTSTAMP:20260425T023846
CREATED:20190124T032536Z
LAST-MODIFIED:20190126T175654Z
UID:1725-1548519300-1548534600@qcsportsnet.com
SUMMARY:High school boys basketball - Saturday\, January 26th
DESCRIPTION:\n \nClick here to listen to live United Township broadcasts\n\nSaturday\, January 26th – United Township vs Champaign Centennial at Peoria Shootout\, 4:15 PM pregame/4:30 PM tipoff\n\n \nClick here to listen to live Rock Island broadcasts\n\nSaturday\, January 25th – Rock Island boys vs Alton (Galesburg Shootout)\, 5:45 PM pregame/6:00 PM tipoff\n\n\nClick here to listen to live Moline broadcasts\nMOLINE VS RANTOUL SCHEDULED FOR SATURDAY\, JANUARY 26th IS CANCELLED.\n \nClick here to listen to live Bettendorf broadcasts\n\nSaturday\, January 26th – Bettendorf boys at Davenport West\, 2:15 PM pregame/2:30 tip-off\n\n
URL:https://qcsportsnet.com/calendar/western-big-6-boys-basketball-saturday-january-26th/
CATEGORIES:Bettendorf,Boys basketball,Moline,Rock Island,United Township,Western Big 6
ATTACH;FMTTYPE=image/jpeg:https://qcsportsnet.com/wp-content/uploads/2014/08/QC_blue_300dpi.jpg
END:VEVENT
END:VCALENDAR