BEGIN:VCALENDAR
VERSION:2.0
PRODID:-//QCSportsNet - The Quad Cities Live Local Sports Leader - ECPv4.9.8//NONSGML v1.0//EN
CALSCALE:GREGORIAN
METHOD:PUBLISH
X-WR-CALNAME:QCSportsNet - The Quad Cities Live Local Sports Leader
X-ORIGINAL-URL:https://qcsportsnet.com
X-WR-CALDESC:Events for QCSportsNet - The Quad Cities Live Local Sports Leader
BEGIN:VTIMEZONE
TZID:America/Chicago
BEGIN:DAYLIGHT
TZOFFSETFROM:-0600
TZOFFSETTO:-0500
TZNAME:CDT
DTSTART:20190310T080000
END:DAYLIGHT
BEGIN:STANDARD
TZOFFSETFROM:-0500
TZOFFSETTO:-0600
TZNAME:CST
DTSTART:20191103T070000
END:STANDARD
END:VTIMEZONE
BEGIN:VEVENT
DTSTART;TZID="America/Chicago":20190117T181500
DTEND;TZID="America/Chicago":20190117T210000
DTSTAMP:20260424T233653
CREATED:20190115T121242Z
LAST-MODIFIED:20190115T121242Z
UID:1682-1547748900-1547758800@qcsportsnet.com
SUMMARY:Western Big 6 girls basketball - Thursday\, January 17th
DESCRIPTION: \nClick here to listen to live United Township broadcasts\n\nThursday\, January 17th – United Township girls at Galesburg\, 6:15 PM pregame/6:30 PM tipoff\n\n \nClick here to listen to live Rock Island broadcasts\n\nThursday\, January 17th – Rock Island girls vs Moline\, 6:15 PM pregame/6:30 PM tipoff\n\n  \n \nClick here to listen to live Moline broadcasts\n\nThursday\, January 17th – Moline girls at Rock Island\, 6:15 PM pregame/6:30 PM tipoff\n\n
URL:https://qcsportsnet.com/calendar/western-big-6-girls-basketball-thursday-january-17th/
CATEGORIES:Girls Basketball,Moline,Pleasant Valley,United Township,Western Big 6
ATTACH;FMTTYPE=image/jpeg:https://qcsportsnet.com/wp-content/uploads/2018/11/Western-Big-6.jpeg
END:VEVENT
END:VCALENDAR